BEGIN:VCALENDAR
VERSION:2.0
PRODID:-//Allgemeine Bürgerschützen Gescher von 1605 - St. Pankratius Schützengilde e.V. - ECPv6.15.20//NONSGML v1.0//EN
CALSCALE:GREGORIAN
METHOD:PUBLISH
X-WR-CALNAME:Allgemeine Bürgerschützen Gescher von 1605 - St. Pankratius Schützengilde e.V.
X-ORIGINAL-URL:https://pankratius-schuetzengilde.de
X-WR-CALDESC:Veranstaltungen für Allgemeine Bürgerschützen Gescher von 1605 - St. Pankratius Schützengilde e.V.
REFRESH-INTERVAL;VALUE=DURATION:PT1H
X-Robots-Tag:noindex
X-PUBLISHED-TTL:PT1H
BEGIN:VTIMEZONE
TZID:Europe/Berlin
BEGIN:DAYLIGHT
TZOFFSETFROM:+0100
TZOFFSETTO:+0200
TZNAME:CEST
DTSTART:20190331T010000
END:DAYLIGHT
BEGIN:STANDARD
TZOFFSETFROM:+0200
TZOFFSETTO:+0100
TZNAME:CET
DTSTART:20191027T010000
END:STANDARD
BEGIN:DAYLIGHT
TZOFFSETFROM:+0100
TZOFFSETTO:+0200
TZNAME:CEST
DTSTART:20200329T010000
END:DAYLIGHT
BEGIN:STANDARD
TZOFFSETFROM:+0200
TZOFFSETTO:+0100
TZNAME:CET
DTSTART:20201025T010000
END:STANDARD
BEGIN:DAYLIGHT
TZOFFSETFROM:+0100
TZOFFSETTO:+0200
TZNAME:CEST
DTSTART:20210328T010000
END:DAYLIGHT
BEGIN:STANDARD
TZOFFSETFROM:+0200
TZOFFSETTO:+0100
TZNAME:CET
DTSTART:20211031T010000
END:STANDARD
END:VTIMEZONE
BEGIN:VEVENT
DTSTART;TZID=Europe/Berlin:20200815T170000
DTEND;TZID=Europe/Berlin:20200815T220000
DTSTAMP:20260421T224415
CREATED:20200802T153109Z
LAST-MODIFIED:20200802T153112Z
UID:2696-1597510800-1597528800@pankratius-schuetzengilde.de
SUMMARY:Wald fegen
DESCRIPTION:Treffen zum Wald fegen nach der Umbaumaßnahme an der Vogelstange \nteilen teilen teilen E-Mail drucken 
URL:https://pankratius-schuetzengilde.de/event/wald-fegen/
LOCATION:Vogelstange am Erlengrund\, Am Erlengrund 23\, Gescher\, NRW\, 48712\, Deutschland
ORGANIZER;CN="Allgemeine B%C3%BCrgersch%C3%BCtzen Gescher von 1605 - St. Pankratius Sch%C3%BCtzengilde e.V.":MAILTO:webmaster@pankratius-schuetzengilde.de
END:VEVENT
END:VCALENDAR