BEGIN:VCALENDAR
VERSION:2.0
PRODID:-//Allgemeine Bürgerschützen Gescher von 1605 - St. Pankratius Schützengilde e.V. - ECPv6.15.20//NONSGML v1.0//EN
CALSCALE:GREGORIAN
METHOD:PUBLISH
X-ORIGINAL-URL:https://pankratius-schuetzengilde.de
X-WR-CALDESC:Veranstaltungen für Allgemeine Bürgerschützen Gescher von 1605 - St. Pankratius Schützengilde e.V.
REFRESH-INTERVAL;VALUE=DURATION:PT1H
X-Robots-Tag:noindex
X-PUBLISHED-TTL:PT1H
BEGIN:VTIMEZONE
TZID:Europe/Berlin
BEGIN:DAYLIGHT
TZOFFSETFROM:+0100
TZOFFSETTO:+0200
TZNAME:CEST
DTSTART:20230326T010000
END:DAYLIGHT
BEGIN:STANDARD
TZOFFSETFROM:+0200
TZOFFSETTO:+0100
TZNAME:CET
DTSTART:20231029T010000
END:STANDARD
BEGIN:DAYLIGHT
TZOFFSETFROM:+0100
TZOFFSETTO:+0200
TZNAME:CEST
DTSTART:20240331T010000
END:DAYLIGHT
BEGIN:STANDARD
TZOFFSETFROM:+0200
TZOFFSETTO:+0100
TZNAME:CET
DTSTART:20241027T010000
END:STANDARD
BEGIN:DAYLIGHT
TZOFFSETFROM:+0100
TZOFFSETTO:+0200
TZNAME:CEST
DTSTART:20250330T010000
END:DAYLIGHT
BEGIN:STANDARD
TZOFFSETFROM:+0200
TZOFFSETTO:+0100
TZNAME:CET
DTSTART:20251026T010000
END:STANDARD
END:VTIMEZONE
BEGIN:VEVENT
DTSTART;TZID=Europe/Berlin:20241117T111500
DTEND;TZID=Europe/Berlin:20241117T121500
DTSTAMP:20260422T134144
CREATED:20241027T091244Z
LAST-MODIFIED:20241027T091728Z
UID:6002-1731842100-1731845700@pankratius-schuetzengilde.de
SUMMARY:Volkstrauertag 2024
DESCRIPTION:Einladung zum Ehrenmal an der Frieterhofstr. mit Kranzniederlegung \nteilen teilen teilen E-Mail drucken 
URL:https://pankratius-schuetzengilde.de/event/volkstrauertag-2024/
LOCATION:Ehrenmal Frieterhofstraße\, Frieterhofstr.\, Gescher\, NRW\, 48712
END:VEVENT
END:VCALENDAR