BEGIN:VCALENDAR
VERSION:2.0
PRODID:-//Allgemeine Bürgerschützen Gescher von 1605 - St. Pankratius Schützengilde e.V. - ECPv6.15.20//NONSGML v1.0//EN
CALSCALE:GREGORIAN
METHOD:PUBLISH
X-WR-CALNAME:Allgemeine Bürgerschützen Gescher von 1605 - St. Pankratius Schützengilde e.V.
X-ORIGINAL-URL:https://pankratius-schuetzengilde.de
X-WR-CALDESC:Veranstaltungen für Allgemeine Bürgerschützen Gescher von 1605 - St. Pankratius Schützengilde e.V.
REFRESH-INTERVAL;VALUE=DURATION:PT1H
X-Robots-Tag:noindex
X-PUBLISHED-TTL:PT1H
BEGIN:VTIMEZONE
TZID:Europe/Berlin
BEGIN:DAYLIGHT
TZOFFSETFROM:+0100
TZOFFSETTO:+0200
TZNAME:CEST
DTSTART:20250330T010000
END:DAYLIGHT
BEGIN:STANDARD
TZOFFSETFROM:+0200
TZOFFSETTO:+0100
TZNAME:CET
DTSTART:20251026T010000
END:STANDARD
BEGIN:DAYLIGHT
TZOFFSETFROM:+0100
TZOFFSETTO:+0200
TZNAME:CEST
DTSTART:20260329T010000
END:DAYLIGHT
BEGIN:STANDARD
TZOFFSETFROM:+0200
TZOFFSETTO:+0100
TZNAME:CET
DTSTART:20261025T010000
END:STANDARD
BEGIN:DAYLIGHT
TZOFFSETFROM:+0100
TZOFFSETTO:+0200
TZNAME:CEST
DTSTART:20270328T010000
END:DAYLIGHT
BEGIN:STANDARD
TZOFFSETFROM:+0200
TZOFFSETTO:+0100
TZNAME:CET
DTSTART:20271031T010000
END:STANDARD
END:VTIMEZONE
BEGIN:VEVENT
DTSTART;TZID=Europe/Berlin:20260422T190000
DTEND;TZID=Europe/Berlin:20260422T200000
DTSTAMP:20260422T012143
CREATED:20240513T153931Z
LAST-MODIFIED:20260418T105942Z
UID:4874-1776884400-1776888000@pankratius-schuetzengilde.de
SUMMARY:Erweiterung der Königsgalerie
DESCRIPTION:Erweiterung der Königsgalerie durch unseren aktuellen Thron im Hotel Tenbrock \nteilen teilen teilen E-Mail drucken 
URL:https://pankratius-schuetzengilde.de/event/erweiterung-der-koenigsgalerie/
LOCATION:Hotel Tenbrock\, Hauskampstraße 12\, Gescher\, NRW\, 48712\, Deutschland
END:VEVENT
END:VCALENDAR