BEGIN:VCALENDAR
VERSION:2.0
PRODID:-//Allgemeine Bürgerschützen Gescher von 1605 - St. Pankratius Schützengilde e.V. - ECPv6.15.20//NONSGML v1.0//EN
CALSCALE:GREGORIAN
METHOD:PUBLISH
X-ORIGINAL-URL:https://pankratius-schuetzengilde.de
X-WR-CALDESC:Veranstaltungen für Allgemeine Bürgerschützen Gescher von 1605 - St. Pankratius Schützengilde e.V.
REFRESH-INTERVAL;VALUE=DURATION:PT1H
X-Robots-Tag:noindex
X-PUBLISHED-TTL:PT1H
BEGIN:VTIMEZONE
TZID:Europe/Berlin
BEGIN:DAYLIGHT
TZOFFSETFROM:+0100
TZOFFSETTO:+0200
TZNAME:CEST
DTSTART:20230326T010000
END:DAYLIGHT
BEGIN:STANDARD
TZOFFSETFROM:+0200
TZOFFSETTO:+0100
TZNAME:CET
DTSTART:20231029T010000
END:STANDARD
BEGIN:DAYLIGHT
TZOFFSETFROM:+0100
TZOFFSETTO:+0200
TZNAME:CEST
DTSTART:20240331T010000
END:DAYLIGHT
BEGIN:STANDARD
TZOFFSETFROM:+0200
TZOFFSETTO:+0100
TZNAME:CET
DTSTART:20241027T010000
END:STANDARD
BEGIN:DAYLIGHT
TZOFFSETFROM:+0100
TZOFFSETTO:+0200
TZNAME:CEST
DTSTART:20250330T010000
END:DAYLIGHT
BEGIN:STANDARD
TZOFFSETFROM:+0200
TZOFFSETTO:+0100
TZNAME:CET
DTSTART:20251026T010000
END:STANDARD
END:VTIMEZONE
BEGIN:VEVENT
DTSTART;TZID=Europe/Berlin:20240803T170000
DTEND;TZID=Europe/Berlin:20240803T210000
DTSTAMP:20260421T073552
CREATED:20240602T074416Z
LAST-MODIFIED:20240620T192222Z
UID:5004-1722704400-1722718800@pankratius-schuetzengilde.de
SUMMARY:Vogel schmücken
DESCRIPTION:Schmücken und feierliche Abnahme des Schützenvogels bei unserem Schützenkönig Udo \nEingeladen sind alle neben der Throngemeinschaft und Gästen auch die Aktiven der Schützengilde (Vorstand\, Offiziere\, Gruppenführer inkl. Anhang \nteilen teilen teilen E-Mail drucken 
URL:https://pankratius-schuetzengilde.de/event/vogel-schmuecken/
ORGANIZER;CN="Allgemeine B%C3%BCrgersch%C3%BCtzen Gescher von 1605 - St. Pankratius Sch%C3%BCtzengilde e.V.":MAILTO:webmaster@pankratius-schuetzengilde.de
END:VEVENT
BEGIN:VEVENT
DTSTART;TZID=Europe/Berlin:20240813T190000
DTEND;TZID=Europe/Berlin:20240813T210000
DTSTAMP:20260421T073552
CREATED:20220625T100035Z
LAST-MODIFIED:20240530T134839Z
UID:3491-1723575600-1723582800@pankratius-schuetzengilde.de
SUMMARY:Rösschen machen
DESCRIPTION:Rösschen machen unserer Partnerinnen – die Aktiven unterstützen mit kühlen Getränken und tatkräftiger Mithilfe \nÖrtlichkeit  folgt \nteilen teilen teilen E-Mail drucken 
URL:https://pankratius-schuetzengilde.de/event/roesschen-machen/
ORGANIZER;CN="Allgemeine B%C3%BCrgersch%C3%BCtzen Gescher von 1605 - St. Pankratius Sch%C3%BCtzengilde e.V.":MAILTO:webmaster@pankratius-schuetzengilde.de
END:VEVENT
BEGIN:VEVENT
DTSTART;TZID=Europe/Berlin:20240814T170000
DTEND;TZID=Europe/Berlin:20240814T210000
DTSTAMP:20260421T073552
CREATED:20220625T100221Z
LAST-MODIFIED:20240530T135405Z
UID:3493-1723654800-1723669200@pankratius-schuetzengilde.de
SUMMARY:Fähnchen in der Innenstadt aufhängen
DESCRIPTION:Aufhängen der Fähnchen in der gesamten Innenstadt \nTreffen bei Offizier Herbert Schlüter; Abschluss am Brauhaus (Heimathaus) \nteilen teilen teilen E-Mail drucken 
URL:https://pankratius-schuetzengilde.de/event/faehnchen-in-der-innenstadt-aufhaengen/
ORGANIZER;CN="Allgemeine B%C3%BCrgersch%C3%BCtzen Gescher von 1605 - St. Pankratius Sch%C3%BCtzengilde e.V.":MAILTO:webmaster@pankratius-schuetzengilde.de
END:VEVENT
BEGIN:VEVENT
DTSTART;TZID=Europe/Berlin:20240815T100000
DTEND;TZID=Europe/Berlin:20240815T220000
DTSTAMP:20260421T073552
CREATED:20220625T100328Z
LAST-MODIFIED:20240530T135516Z
UID:3495-1723716000-1723759200@pankratius-schuetzengilde.de
SUMMARY:Festzelt schmücken
DESCRIPTION:Birkengrün holen\, Karnevalshalle Krone holen usw. \nAb 18.00 Uhr gemütliches Beisammensein im Festzelt mit allen Aktiven\, deren Frauen\, bzw. Freundinnen und die Nachbarschaften der Throngemeinschaft. \nAusgabe der Gewehre und Krawatten an Neuschützen.\nAbrechnung der Barzahler aus den einzelnen Gebieten. \nteilen teilen teilen E-Mail drucken 
URL:https://pankratius-schuetzengilde.de/event/festzelt-schmuecken/
LOCATION:Festzelt auf dem Huesker Parkplatz\, Fabrikstraße 11-13\, Gescher\, NRW\, 48712\, Deutschland
ORGANIZER;CN="Allgemeine B%C3%BCrgersch%C3%BCtzen Gescher von 1605 - St. Pankratius Sch%C3%BCtzengilde e.V.":MAILTO:webmaster@pankratius-schuetzengilde.de
END:VEVENT
BEGIN:VEVENT
DTSTART;TZID=Europe/Berlin:20240816T133000
DTEND;TZID=Europe/Berlin:20240816T150000
DTSTAMP:20260421T073552
CREATED:20220625T100859Z
LAST-MODIFIED:20240530T135751Z
UID:3505-1723815000-1723820400@pankratius-schuetzengilde.de
SUMMARY:Offiziers- und Gruppenführerversammlung im Festzelt
DESCRIPTION:Nach dem Mittagessen. \nAusgabe der Dienstpläne\, Zahlung der Fehl- und Strafgelder\, \nletzte Anweisungen \nteilen teilen teilen E-Mail drucken 
URL:https://pankratius-schuetzengilde.de/event/offiziers-und-gruppenfuehrerversammlung-im-festzelt/
LOCATION:Festzelt auf dem Huesker Parkplatz\, Fabrikstraße 11-13\, Gescher\, NRW\, 48712\, Deutschland
ORGANIZER;CN="Allgemeine B%C3%BCrgersch%C3%BCtzen Gescher von 1605 - St. Pankratius Sch%C3%BCtzengilde e.V.":MAILTO:webmaster@pankratius-schuetzengilde.de
END:VEVENT
BEGIN:VEVENT
DTSTART;TZID=Europe/Berlin:20240819T110000
DTEND;TZID=Europe/Berlin:20240819T170000
DTSTAMP:20260421T073552
CREATED:20220625T101015Z
LAST-MODIFIED:20240530T140727Z
UID:3508-1724065200-1724086800@pankratius-schuetzengilde.de
SUMMARY:Pfannkuchen essen
DESCRIPTION:Ort: Vogelstange; bei schlechtem Wetter Hof Weghake \nteilen teilen teilen E-Mail drucken 
URL:https://pankratius-schuetzengilde.de/event/pfannkuchen-essen/
LOCATION:Vogelstange am Erlengrund\, Am Erlengrund 23\, Gescher\, NRW\, 48712\, Deutschland
ORGANIZER;CN="Allgemeine B%C3%BCrgersch%C3%BCtzen Gescher von 1605 - St. Pankratius Sch%C3%BCtzengilde e.V.":MAILTO:webmaster@pankratius-schuetzengilde.de
END:VEVENT
BEGIN:VEVENT
DTSTART;TZID=Europe/Berlin:20240820T170000
DTEND;TZID=Europe/Berlin:20240820T200000
DTSTAMP:20260421T073552
CREATED:20220625T101212Z
LAST-MODIFIED:20240530T140832Z
UID:3512-1724173200-1724184000@pankratius-schuetzengilde.de
SUMMARY:Fähnchen abhängen
DESCRIPTION:Treffpunkt bei Offizier Herbert Schlüter (Josef-Willenbrink-Straße) \nteilen teilen teilen E-Mail drucken 
URL:https://pankratius-schuetzengilde.de/event/faehnchen-abhaengen/
ORGANIZER;CN="Allgemeine B%C3%BCrgersch%C3%BCtzen Gescher von 1605 - St. Pankratius Sch%C3%BCtzengilde e.V.":MAILTO:webmaster@pankratius-schuetzengilde.de
END:VEVENT
END:VCALENDAR