BEGIN:VCALENDAR
VERSION:2.0
PRODID:-//Allgemeine Bürgerschützen Gescher von 1605 - St. Pankratius Schützengilde e.V. - ECPv6.15.20//NONSGML v1.0//EN
CALSCALE:GREGORIAN
METHOD:PUBLISH
X-ORIGINAL-URL:https://pankratius-schuetzengilde.de
X-WR-CALDESC:Veranstaltungen für Allgemeine Bürgerschützen Gescher von 1605 - St. Pankratius Schützengilde e.V.
REFRESH-INTERVAL;VALUE=DURATION:PT1H
X-Robots-Tag:noindex
X-PUBLISHED-TTL:PT1H
BEGIN:VTIMEZONE
TZID:Europe/Berlin
BEGIN:DAYLIGHT
TZOFFSETFROM:+0100
TZOFFSETTO:+0200
TZNAME:CEST
DTSTART:20230326T010000
END:DAYLIGHT
BEGIN:STANDARD
TZOFFSETFROM:+0200
TZOFFSETTO:+0100
TZNAME:CET
DTSTART:20231029T010000
END:STANDARD
BEGIN:DAYLIGHT
TZOFFSETFROM:+0100
TZOFFSETTO:+0200
TZNAME:CEST
DTSTART:20240331T010000
END:DAYLIGHT
BEGIN:STANDARD
TZOFFSETFROM:+0200
TZOFFSETTO:+0100
TZNAME:CET
DTSTART:20241027T010000
END:STANDARD
BEGIN:DAYLIGHT
TZOFFSETFROM:+0100
TZOFFSETTO:+0200
TZNAME:CEST
DTSTART:20250330T010000
END:DAYLIGHT
BEGIN:STANDARD
TZOFFSETFROM:+0200
TZOFFSETTO:+0100
TZNAME:CET
DTSTART:20251026T010000
END:STANDARD
END:VTIMEZONE
BEGIN:VEVENT
DTSTART;TZID=Europe/Berlin:20240901T111000
DTEND;TZID=Europe/Berlin:20240901T121000
DTSTAMP:20260421T103000
CREATED:20240822T151606Z
LAST-MODIFIED:20240822T151606Z
UID:5414-1725189000-1725192600@pankratius-schuetzengilde.de
SUMMARY:Teilnahme Stadtmeisterschaften im Luftgewehrschießen
DESCRIPTION:teilen teilen teilen E-Mail drucken 
URL:https://pankratius-schuetzengilde.de/event/teilnahme-stadtmeisterschaften-im-luftgewehrschiessen/
END:VEVENT
END:VCALENDAR